BEGIN:VCALENDAR
VERSION:2.0
PRODID:-//Historic Moretz Mills - ECPv4.8.2//NONSGML v1.0//EN
CALSCALE:GREGORIAN
METHOD:PUBLISH
X-WR-CALNAME:Historic Moretz Mills
X-ORIGINAL-URL:https://moretzmills.com
X-WR-CALDESC:Events for Historic Moretz Mills
BEGIN:VEVENT
DTSTART;TZID=America/New_York:20150228T180000
DTEND;TZID=America/New_York:20150228T230000
DTSTAMP:20260422T155316
CREATED:20141006T183219Z
LAST-MODIFIED:20141120T163605Z
UID:78-1425146400-1425164400@moretzmills.com
SUMMARY:American Heart Association Heart Ball
DESCRIPTION:Celebrate for a good cause that’s close to everyone’s heart at the 20th annual Catawba Heart Ball! Join us for an evening of exciting live and silent auctions\, gourmet dinner\, dancing and entertainment. Last year\, the Catawba County Heart Ball raised almost $100\,000 to fund lifesaving research that benefits our community in countless ways. \nFor information on sponsorship and individual tickets\, call 704.417.5757 or email katherine.long@heart.org. \n
URL:https://moretzmills.com/test/dolor-sit-amet/
LOCATION:74 South at Moretz Mills\, Moretz Mills\, LLC 74 8th St SE\, Hickory\, NC\, 28602\, United States
ATTACH;FMTTYPE=image/png:https://moretzmills.com/wp-content/uploads/2014/10/logo-aha.png
END:VEVENT
END:VCALENDAR