BEGIN:VCALENDAR
VERSION:2.0
PRODID:-//Historic Moretz Mills - ECPv4.8.2//NONSGML v1.0//EN
CALSCALE:GREGORIAN
METHOD:PUBLISH
X-WR-CALNAME:Historic Moretz Mills
X-ORIGINAL-URL:https://moretzmills.com
X-WR-CALDESC:Events for Historic Moretz Mills
BEGIN:VEVENT
DTSTART;TZID=America/New_York:20141213T183000
DTEND;TZID=America/New_York:20141213T223000
DTSTAMP:20260423T122037
CREATED:20141006T182842Z
LAST-MODIFIED:20141028T183943Z
UID:77-1418495400-1418509800@moretzmills.com
SUMMARY:Investor's Club Meeting
DESCRIPTION:
URL:https://moretzmills.com/test/lorem-ipsum/
LOCATION:74 South at Moretz Mills\, Moretz Mills\, LLC 74 8th St SE\, Hickory\, NC\, 28602\, United States
END:VEVENT
END:VCALENDAR