BEGIN:VCALENDAR
VERSION:2.0
PRODID:-//Historic Moretz Mills - ECPv4.8.2//NONSGML v1.0//EN
CALSCALE:GREGORIAN
METHOD:PUBLISH
X-WR-CALNAME:Historic Moretz Mills
X-ORIGINAL-URL:https://moretzmills.com
X-WR-CALDESC:Events for Historic Moretz Mills
BEGIN:VEVENT
DTSTART;TZID=America/New_York:20150124T180000
DTEND;TZID=America/New_York:20150124T220000
DTSTAMP:20260423T040622
CREATED:20141229T152557Z
LAST-MODIFIED:20141229T152600Z
UID:317-1422122400-1422136800@moretzmills.com
SUMMARY:LR Recruiting Dinner
DESCRIPTION:
URL:https://moretzmills.com/test/lr-recruiting-dinner-3/
LOCATION:74 South at Moretz Mills\, Moretz Mills\, LLC 74 8th St SE\, Hickory\, NC\, 28602\, United States
END:VEVENT
END:VCALENDAR