BEGIN:VCALENDAR
VERSION:2.0
PRODID:-//Historic Moretz Mills - ECPv4.8.2//NONSGML v1.0//EN
CALSCALE:GREGORIAN
METHOD:PUBLISH
X-WR-CALNAME:Historic Moretz Mills
X-ORIGINAL-URL:https://moretzmills.com
X-WR-CALDESC:Events for Historic Moretz Mills
BEGIN:VEVENT
DTSTART;TZID=America/New_York:20151107T160000
DTEND;TZID=America/New_York:20151107T210000
DTSTAMP:20260422T111301
CREATED:20141229T160319Z
LAST-MODIFIED:20150203T165419Z
UID:327-1446912000-1446930000@moretzmills.com
SUMMARY:LR VIP Reception 
DESCRIPTION:
URL:https://moretzmills.com/test/lr-vip-reception/
LOCATION:74 South at Moretz Mills\, Moretz Mills\, LLC 74 8th St SE\, Hickory\, NC\, 28602\, United States
END:VEVENT
END:VCALENDAR