BEGIN:VCALENDAR
VERSION:2.0
PRODID:-//Historic Moretz Mills - ECPv4.8.2//NONSGML v1.0//EN
CALSCALE:GREGORIAN
METHOD:PUBLISH
X-WR-CALNAME:Historic Moretz Mills
X-ORIGINAL-URL:https://moretzmills.com
X-WR-CALDESC:Events for Historic Moretz Mills
BEGIN:VEVENT
DTSTART;TZID=America/New_York:20150203T120000
DTEND;TZID=America/New_York:20150203T140000
DTSTAMP:20260422T215233
CREATED:20150203T163031Z
LAST-MODIFIED:20150203T163054Z
UID:342-1422964800-1422972000@moretzmills.com
SUMMARY:Rotary Club
DESCRIPTION:
URL:https://moretzmills.com/test/rotary-club/
LOCATION:74 South at Moretz Mills\, Moretz Mills\, LLC 74 8th St SE\, Hickory\, NC\, 28602\, United States
END:VEVENT
END:VCALENDAR