BEGIN:VCALENDAR
VERSION:2.0
PRODID:-//Historic Moretz Mills - ECPv4.8.2//NONSGML v1.0//EN
CALSCALE:GREGORIAN
METHOD:PUBLISH
X-WR-CALNAME:Historic Moretz Mills
X-ORIGINAL-URL:https://moretzmills.com
X-WR-CALDESC:Events for Historic Moretz Mills
BEGIN:VEVENT
DTSTART;TZID=America/New_York:20150620T050000
DTEND;TZID=America/New_York:20150620T230000
DTSTAMP:20260421T194914
CREATED:20150226T153231Z
LAST-MODIFIED:20150226T153231Z
UID:385-1434776400-1434841200@moretzmills.com
SUMMARY:Wedding Anniversary
DESCRIPTION:
URL:https://moretzmills.com/test/wedding-anniversary/
LOCATION:74 South at Moretz Mills\, Moretz Mills\, LLC 74 8th St SE\, Hickory\, NC\, 28602\, United States
END:VEVENT
END:VCALENDAR