BEGIN:VCALENDAR
VERSION:2.0
PRODID:-//Historic Moretz Mills - ECPv4.8.2//NONSGML v1.0//EN
CALSCALE:GREGORIAN
METHOD:PUBLISH
X-WR-CALNAME:Historic Moretz Mills
X-ORIGINAL-URL:https://moretzmills.com
X-WR-CALDESC:Events for Historic Moretz Mills
BEGIN:VEVENT
DTSTART;VALUE=DATE:20151024
DTEND;VALUE=DATE:20151025
DTSTAMP:20260422T094324
CREATED:20150306T212711Z
LAST-MODIFIED:20150306T212731Z
UID:411-1445644800-1445731199@moretzmills.com
SUMMARY:Wedding Reception
DESCRIPTION: \n
URL:https://moretzmills.com/test/wedding-reception-4/
LOCATION:74 South at Moretz Mills\, Moretz Mills\, LLC 74 8th St SE\, Hickory\, NC\, 28602\, United States
END:VEVENT
END:VCALENDAR