BEGIN:VCALENDAR
VERSION:2.0
PRODID:-//Historic Moretz Mills - ECPv4.8.2//NONSGML v1.0//EN
CALSCALE:GREGORIAN
METHOD:PUBLISH
X-WR-CALNAME:Historic Moretz Mills
X-ORIGINAL-URL:https://moretzmills.com
X-WR-CALDESC:Events for Historic Moretz Mills
BEGIN:VEVENT
DTSTART;TZID=America/New_York:20150530T170000
DTEND;TZID=America/New_York:20150530T230000
DTSTAMP:20260421T194613
CREATED:20150205T175637Z
LAST-MODIFIED:20150205T175929Z
UID:371-1433005200-1433026800@moretzmills.com
SUMMARY:Wedding Reception
DESCRIPTION: \n
URL:https://moretzmills.com/test/wedding-reception-9/
LOCATION:74 South at Moretz Mills\, Moretz Mills\, LLC 74 8th St SE\, Hickory\, NC\, 28602\, United States
END:VEVENT
END:VCALENDAR